BEGIN:VCALENDAR
VERSION:2.0
METHOD:PUBLISH
BEGIN:VEVENT
UID:WILD_APRICOT_EVENT_3046663_SESSION_1
DTSTART:20180905T073000Z
DTEND:20180905T083000Z
SUMMARY:Committee of Management (session 1 of 21)
LOCATION:
DESCRIPTION:https://slav.org.au/event-3046663\n\n\n\n
DTSTAMP:20200227T172201Z
END:VEVENT
BEGIN:VEVENT
UID:WILD_APRICOT_EVENT_3046663_SESSION_2
DTSTART:20181017T060000Z
DTEND:20181017T073000Z
SUMMARY:Committee of Management (session 2 of 21)
LOCATION:
DESCRIPTION:https://slav.org.au/event-3046663\n\n\n\n
DTSTAMP:20200227T172201Z
END:VEVENT
BEGIN:VEVENT
UID:WILD_APRICOT_EVENT_3046663_SESSION_3
DTSTART:20181114T060000Z
DTEND:20181114T073000Z
SUMMARY:Committee of Management (session 3 of 21)
LOCATION:
DESCRIPTION:https://slav.org.au/event-3046663\n\n\n\n
DTSTAMP:20200227T172201Z
END:VEVENT
BEGIN:VEVENT
UID:WILD_APRICOT_EVENT_3046663_SESSION_4
DTSTART:20181212T060000Z
DTEND:20181212T073000Z
SUMMARY:Committee of Management (session 4 of 21)
LOCATION:
DESCRIPTION:https://slav.org.au/event-3046663\n\n\n\n
DTSTAMP:20200227T172201Z
END:VEVENT
BEGIN:VEVENT
UID:WILD_APRICOT_EVENT_3046663_SESSION_5
DTSTART:20190206T060000Z
DTEND:20190206T073000Z
SUMMARY:Committee of Management (session 5 of 21)
LOCATION:
DESCRIPTION:https://slav.org.au/event-3046663\n\n\n\n
DTSTAMP:20200227T172201Z
END:VEVENT
BEGIN:VEVENT
UID:WILD_APRICOT_EVENT_3046663_SESSION_6
DTSTART:20190306T060000Z
DTEND:20190306T073000Z
SUMMARY:Committee of Management (session 6 of 21)
LOCATION:
DESCRIPTION:https://slav.org.au/event-3046663\n\n\n\n
DTSTAMP:20200227T172201Z
END:VEVENT
BEGIN:VEVENT
UID:WILD_APRICOT_EVENT_3046663_SESSION_7
DTSTART:20190501T070000Z
DTEND:20190501T083000Z
SUMMARY:Committee of Management (session 7 of 21)
LOCATION:
DESCRIPTION:https://slav.org.au/event-3046663\n\n\n\n
DTSTAMP:20200227T172201Z
END:VEVENT
BEGIN:VEVENT
UID:WILD_APRICOT_EVENT_3046663_SESSION_8
DTSTART:20190612T070000Z
DTEND:20190612T083000Z
SUMMARY:Committee of Management (session 8 of 21)
LOCATION:
DESCRIPTION:https://slav.org.au/event-3046663\n\n\n\n
DTSTAMP:20200227T172201Z
END:VEVENT
BEGIN:VEVENT
UID:WILD_APRICOT_EVENT_3046663_SESSION_9
DTSTART:20190724T070000Z
DTEND:20190724T083000Z
SUMMARY:Committee of Management (session 9 of 21)
LOCATION:
DESCRIPTION:https://slav.org.au/event-3046663\n\n\n\n
DTSTAMP:20200227T172201Z
END:VEVENT
BEGIN:VEVENT
UID:WILD_APRICOT_EVENT_3046663_SESSION_10
DTSTART:20190904T070000Z
DTEND:20190904T083000Z
SUMMARY:Committee of Management (session 10 of 21)
LOCATION:
DESCRIPTION:https://slav.org.au/event-3046663\n\n\n\n
DTSTAMP:20200227T172201Z
END:VEVENT
BEGIN:VEVENT
UID:WILD_APRICOT_EVENT_3046663_SESSION_11
DTSTART:20191016T060000Z
DTEND:20191016T073000Z
SUMMARY:Committee of Management (session 11 of 21)
LOCATION:
DESCRIPTION:https://slav.org.au/event-3046663\n\n\n\n
DTSTAMP:20200227T172201Z
END:VEVENT
BEGIN:VEVENT
UID:WILD_APRICOT_EVENT_3046663_SESSION_12
DTSTART:20191113T060000Z
DTEND:20191113T073000Z
SUMMARY:Committee of Management (session 12 of 21)
LOCATION:
DESCRIPTION:https://slav.org.au/event-3046663\n\n\n\n
DTSTAMP:20200227T172201Z
END:VEVENT
BEGIN:VEVENT
UID:WILD_APRICOT_EVENT_3046663_SESSION_13
DTSTART:20191211T060000Z
DTEND:20191211T073000Z
SUMMARY:Committee of Management (session 13 of 21)
LOCATION:
DESCRIPTION:https://slav.org.au/event-3046663\n\n\n\n
DTSTAMP:20200227T172201Z
END:VEVENT
BEGIN:VEVENT
UID:WILD_APRICOT_EVENT_3046663_SESSION_14
DTSTART:20200205T053000Z
DTEND:20200205T073000Z
SUMMARY:Committee of Management (session 14 of 21)
LOCATION:
DESCRIPTION:https://slav.org.au/event-3046663\n\n\n\n
DTSTAMP:20200227T172201Z
END:VEVENT
BEGIN:VEVENT
UID:WILD_APRICOT_EVENT_3046663_SESSION_15
DTSTART:20200304T053000Z
DTEND:20200304T073000Z
SUMMARY:Committee of Management (session 15 of 21)
LOCATION:
DESCRIPTION:https://slav.org.au/event-3046663\n\n\n\n
DTSTAMP:20200227T172201Z
END:VEVENT
BEGIN:VEVENT
UID:WILD_APRICOT_EVENT_3046663_SESSION_16
DTSTART:20200429T063000Z
DTEND:20200429T083000Z
SUMMARY:Committee of Management (session 16 of 21)
LOCATION:
DESCRIPTION:https://slav.org.au/event-3046663\n\n\n\n
DTSTAMP:20200227T172201Z
END:VEVENT
BEGIN:VEVENT
UID:WILD_APRICOT_EVENT_3046663_SESSION_17
DTSTART:20200610T063000Z
DTEND:20200610T083000Z
SUMMARY:Committee of Management (session 17 of 21)
LOCATION:
DESCRIPTION:https://slav.org.au/event-3046663\n\n\n\n
DTSTAMP:20200227T172201Z
END:VEVENT
BEGIN:VEVENT
UID:WILD_APRICOT_EVENT_3046663_SESSION_18
DTSTART:20200722T063000Z
DTEND:20200722T083000Z
SUMMARY:Committee of Management (session 18 of 21)
LOCATION:
DESCRIPTION:https://slav.org.au/event-3046663\n\n\n\n
DTSTAMP:20200227T172201Z
END:VEVENT
BEGIN:VEVENT
UID:WILD_APRICOT_EVENT_3046663_SESSION_19
DTSTART:20200819T063000Z
DTEND:20200819T083000Z
SUMMARY:Committee of Management (session 19 of 21)
LOCATION:
DESCRIPTION:https://slav.org.au/event-3046663\n\n\n\n
DTSTAMP:20200227T172201Z
END:VEVENT
BEGIN:VEVENT
UID:WILD_APRICOT_EVENT_3046663_SESSION_20
DTSTART:20201111T053000Z
DTEND:20201111T073000Z
SUMMARY:Committee of Management (session 20 of 21)
LOCATION:
DESCRIPTION:https://slav.org.au/event-3046663\n\n\n\n
DTSTAMP:20200227T172201Z
END:VEVENT
BEGIN:VEVENT
UID:WILD_APRICOT_EVENT_3046663_SESSION_21
DTSTART:20201209T053000Z
DTEND:20201209T073000Z
SUMMARY:Committee of Management (session 21 of 21)
LOCATION:
DESCRIPTION:https://slav.org.au/event-3046663\n\n\n\n
DTSTAMP:20200227T172201Z
END:VEVENT
END:VCALENDAR
