BEGIN:VCALENDAR
VERSION:2.0
METHOD:PUBLISH
BEGIN:VEVENT
UID:WILD_APRICOT_EVENT_3046665_SESSION_1
DTSTART:20180915T003000Z
DTEND:20180915T023000Z
SUMMARY:Council (session 1 of 16)
LOCATION:The Abbotsford Convent\, 1 St Heliers Street\, Abbotsford\, VIC\,3067 Australia
DESCRIPTION:https://slav.org.au/event-3046665\n\nAll meetings in 2020 will be held in The Sheet Room at the Abbotsford Convent. Except for the Council and Think Tank on the 8th August which will be held in the Salon Room of the Abbotsford Convent.\n  For any questions please ring the SLAV phone on 0477 439 593.\n
DTSTAMP:20200227T172212Z
END:VEVENT
BEGIN:VEVENT
UID:WILD_APRICOT_EVENT_3046665_SESSION_2
DTSTART:20181130T233000Z
DTEND:20181201T013000Z
SUMMARY:Council (session 2 of 16)
LOCATION:The Abbotsford Convent\, 1 St Heliers Street\, Abbotsford\, VIC\,3067 Australia
DESCRIPTION:https://slav.org.au/event-3046665\n\nAll meetings in 2020 will be held in The Sheet Room at the Abbotsford Convent. Except for the Council and Think Tank on the 8th August which will be held in the Salon Room of the Abbotsford Convent.\n  For any questions please ring the SLAV phone on 0477 439 593.\n
DTSTAMP:20200227T172212Z
END:VEVENT
BEGIN:VEVENT
UID:WILD_APRICOT_EVENT_3046665_SESSION_3
DTSTART:20190215T233000Z
DTEND:20190216T013000Z
SUMMARY:Council (session 3 of 16)
LOCATION:The Abbotsford Convent\, 1 St Heliers Street\, Abbotsford\, VIC\,3067 Australia
DESCRIPTION:https://slav.org.au/event-3046665\n\nAll meetings in 2020 will be held in The Sheet Room at the Abbotsford Convent. Except for the Council and Think Tank on the 8th August which will be held in the Salon Room of the Abbotsford Convent.\n  For any questions please ring the SLAV phone on 0477 439 593.\n
DTSTAMP:20200227T172212Z
END:VEVENT
BEGIN:VEVENT
UID:WILD_APRICOT_EVENT_3046665_SESSION_4
DTSTART:20190315T233000Z
DTEND:20190316T013000Z
SUMMARY:Council (session 4 of 16)
LOCATION:The Abbotsford Convent\, 1 St Heliers Street\, Abbotsford\, VIC\,3067 Australia
DESCRIPTION:https://slav.org.au/event-3046665\n\nAll meetings in 2020 will be held in The Sheet Room at the Abbotsford Convent. Except for the Council and Think Tank on the 8th August which will be held in the Salon Room of the Abbotsford Convent.\n  For any questions please ring the SLAV phone on 0477 439 593.\n
DTSTAMP:20200227T172212Z
END:VEVENT
BEGIN:VEVENT
UID:WILD_APRICOT_EVENT_3046665_SESSION_5
DTSTART:20190504T003000Z
DTEND:20190504T023000Z
SUMMARY:Council (session 5 of 16)
LOCATION:The Abbotsford Convent\, 1 St Heliers Street\, Abbotsford\, VIC\,3067 Australia
DESCRIPTION:https://slav.org.au/event-3046665\n\nAll meetings in 2020 will be held in The Sheet Room at the Abbotsford Convent. Except for the Council and Think Tank on the 8th August which will be held in the Salon Room of the Abbotsford Convent.\n  For any questions please ring the SLAV phone on 0477 439 593.\n
DTSTAMP:20200227T172212Z
END:VEVENT
BEGIN:VEVENT
UID:WILD_APRICOT_EVENT_3046665_SESSION_6
DTSTART:20190622T003000Z
DTEND:20190622T023000Z
SUMMARY:Council (session 6 of 16)
LOCATION:The Abbotsford Convent\, 1 St Heliers Street\, Abbotsford\, VIC\,3067 Australia
DESCRIPTION:https://slav.org.au/event-3046665\n\nAll meetings in 2020 will be held in The Sheet Room at the Abbotsford Convent. Except for the Council and Think Tank on the 8th August which will be held in the Salon Room of the Abbotsford Convent.\n  For any questions please ring the SLAV phone on 0477 439 593.\n
DTSTAMP:20200227T172212Z
END:VEVENT
BEGIN:VEVENT
UID:WILD_APRICOT_EVENT_3046665_SESSION_7
DTSTART:20190803T003000Z
DTEND:20190803T023000Z
SUMMARY:Council (session 7 of 16)
LOCATION:The Abbotsford Convent\, 1 St Heliers Street\, Abbotsford\, VIC\,3067 Australia
DESCRIPTION:https://slav.org.au/event-3046665\n\nAll meetings in 2020 will be held in The Sheet Room at the Abbotsford Convent. Except for the Council and Think Tank on the 8th August which will be held in the Salon Room of the Abbotsford Convent.\n  For any questions please ring the SLAV phone on 0477 439 593.\n
DTSTAMP:20200227T172212Z
END:VEVENT
BEGIN:VEVENT
UID:WILD_APRICOT_EVENT_3046665_SESSION_8
DTSTART:20190914T003000Z
DTEND:20190914T023000Z
SUMMARY:Council (session 8 of 16)
LOCATION:The Abbotsford Convent\, 1 St Heliers Street\, Abbotsford\, VIC\,3067 Australia
DESCRIPTION:https://slav.org.au/event-3046665\n\nAll meetings in 2020 will be held in The Sheet Room at the Abbotsford Convent. Except for the Council and Think Tank on the 8th August which will be held in the Salon Room of the Abbotsford Convent.\n  For any questions please ring the SLAV phone on 0477 439 593.\n
DTSTAMP:20200227T172212Z
END:VEVENT
BEGIN:VEVENT
UID:WILD_APRICOT_EVENT_3046665_SESSION_9
DTSTART:20191122T233000Z
DTEND:20191123T013000Z
SUMMARY:Council (session 9 of 16)
LOCATION:The Abbotsford Convent\, 1 St Heliers Street\, Abbotsford\, VIC\,3067 Australia
DESCRIPTION:https://slav.org.au/event-3046665\n\nAll meetings in 2020 will be held in The Sheet Room at the Abbotsford Convent. Except for the Council and Think Tank on the 8th August which will be held in the Salon Room of the Abbotsford Convent.\n  For any questions please ring the SLAV phone on 0477 439 593.\n
DTSTAMP:20200227T172212Z
END:VEVENT
BEGIN:VEVENT
UID:WILD_APRICOT_EVENT_3046665_SESSION_10
DTSTART:20200214T233000Z
DTEND:20200215T030000Z
SUMMARY:Council (session 10 of 16)
LOCATION:The Abbotsford Convent\, 1 St Heliers Street\, Abbotsford\, VIC\,3067 Australia
DESCRIPTION:https://slav.org.au/event-3046665\n\nAll meetings in 2020 will be held in The Sheet Room at the Abbotsford Convent. Except for the Council and Think Tank on the 8th August which will be held in the Salon Room of the Abbotsford Convent.\n  For any questions please ring the SLAV phone on 0477 439 593.\n
DTSTAMP:20200227T172212Z
END:VEVENT
BEGIN:VEVENT
UID:WILD_APRICOT_EVENT_3046665_SESSION_11
DTSTART:20200313T233000Z
DTEND:20200314T013000Z
SUMMARY:Council (session 11 of 16)
LOCATION:The Abbotsford Convent\, 1 St Heliers Street\, Abbotsford\, VIC\,3067 Australia
DESCRIPTION:https://slav.org.au/event-3046665\n\nAll meetings in 2020 will be held in The Sheet Room at the Abbotsford Convent. Except for the Council and Think Tank on the 8th August which will be held in the Salon Room of the Abbotsford Convent.\n  For any questions please ring the SLAV phone on 0477 439 593.\n
DTSTAMP:20200227T172212Z
END:VEVENT
BEGIN:VEVENT
UID:WILD_APRICOT_EVENT_3046665_SESSION_12
DTSTART:20200509T003000Z
DTEND:20200509T023000Z
SUMMARY:Council (session 12 of 16)
LOCATION:The Abbotsford Convent\, 1 St Heliers Street\, Abbotsford\, VIC\,3067 Australia
DESCRIPTION:https://slav.org.au/event-3046665\n\nAll meetings in 2020 will be held in The Sheet Room at the Abbotsford Convent. Except for the Council and Think Tank on the 8th August which will be held in the Salon Room of the Abbotsford Convent.\n  For any questions please ring the SLAV phone on 0477 439 593.\n
DTSTAMP:20200227T172212Z
END:VEVENT
BEGIN:VEVENT
UID:WILD_APRICOT_EVENT_3046665_SESSION_13
DTSTART:20200620T003000Z
DTEND:20200620T023000Z
SUMMARY:Council (session 13 of 16)
LOCATION:The Abbotsford Convent\, 1 St Heliers Street\, Abbotsford\, VIC\,3067 Australia
DESCRIPTION:https://slav.org.au/event-3046665\n\nAll meetings in 2020 will be held in The Sheet Room at the Abbotsford Convent. Except for the Council and Think Tank on the 8th August which will be held in the Salon Room of the Abbotsford Convent.\n  For any questions please ring the SLAV phone on 0477 439 593.\n
DTSTAMP:20200227T172212Z
END:VEVENT
BEGIN:VEVENT
UID:WILD_APRICOT_EVENT_3046665_SESSION_14
DTSTART:20200808T003000Z
DTEND:20200808T040000Z
SUMMARY:Council (session 14 of 16)
LOCATION:The Abbotsford Convent\, 1 St Heliers Street\, Abbotsford\, VIC\,3067 Australia
DESCRIPTION:https://slav.org.au/event-3046665\n\nAll meetings in 2020 will be held in The Sheet Room at the Abbotsford Convent. Except for the Council and Think Tank on the 8th August which will be held in the Salon Room of the Abbotsford Convent.\n  For any questions please ring the SLAV phone on 0477 439 593.\n
DTSTAMP:20200227T172212Z
END:VEVENT
BEGIN:VEVENT
UID:WILD_APRICOT_EVENT_3046665_SESSION_15
DTSTART:20200905T003000Z
DTEND:20200905T023000Z
SUMMARY:Council (session 15 of 16)
LOCATION:The Abbotsford Convent\, 1 St Heliers Street\, Abbotsford\, VIC\,3067 Australia
DESCRIPTION:https://slav.org.au/event-3046665\n\nAll meetings in 2020 will be held in The Sheet Room at the Abbotsford Convent. Except for the Council and Think Tank on the 8th August which will be held in the Salon Room of the Abbotsford Convent.\n  For any questions please ring the SLAV phone on 0477 439 593.\n
DTSTAMP:20200227T172212Z
END:VEVENT
BEGIN:VEVENT
UID:WILD_APRICOT_EVENT_3046665_SESSION_16
DTSTART:20201120T233000Z
DTEND:20201121T013000Z
SUMMARY:Council (session 16 of 16)
LOCATION:The Abbotsford Convent\, 1 St Heliers Street\, Abbotsford\, VIC\,3067 Australia
DESCRIPTION:https://slav.org.au/event-3046665\n\nAll meetings in 2020 will be held in The Sheet Room at the Abbotsford Convent. Except for the Council and Think Tank on the 8th August which will be held in the Salon Room of the Abbotsford Convent.\n  For any questions please ring the SLAV phone on 0477 439 593.\n
DTSTAMP:20200227T172212Z
END:VEVENT
END:VCALENDAR
