BEGIN:VCALENDAR
VERSION:2.0
METHOD:PUBLISH
BEGIN:VEVENT
UID:WILD_APRICOT_EVENT_3696739_SESSION_1
DTSTART:20200514T063000Z
DTEND:20200514T083000Z
SUMMARY:Reading Forum Series 2020 - Session 2\, Ivanhoe Girls’ Grammar School
LOCATION:Ivanhoe Girls’ Grammar School
DESCRIPTION:https://slav.org.au/event-3696739\n\n\n\n
DTSTAMP:20200227T172324Z
END:VEVENT
END:VCALENDAR
