BEGIN:VCALENDAR
VERSION:2.0
METHOD:PUBLISH
BEGIN:VEVENT
UID:WILD_APRICOT_EVENT_3696740_SESSION_1
DTSTART:20210523T223000Z
DTEND:20210524T053000Z
SUMMARY:Primary Conference - School Libraries: Powering Primary
LOCATION:Angliss Conference Centre\, William Angliss Institute
DESCRIPTION:https://slav.org.au/event-3696740\n\n   \n\n\n    \nMAY 24\n    \nAngliss Conference Centre\n    \nLEVEL FIVE\n\n    \nWilliam Angliss Institute\n    \n555 La Trobe St\, Melbourne VIC 3000\n    \n\n    \n\n    \nConference Program\n    \n\n    8.30am – Registration\n    9.00am – Welcome   \n                \n\n    9.05am -Keynote address\n    Literacy Communities Empowering Each Other\n    Heather Fehring\, Emerita Professor in the School of Education\, in the Design & Social Context College\, RMIT University\n    \n\n    9.40am - An update from the Literacy Unit\, DET\n    Tahlia Campbell is a Senior Project Officer with the Literacy Unit of the Learning and Teaching Division of the Department of Education and Training\n    \n\n    10.10am – Discussion Session One\n    How do you promote the library to its community?\n    What practical strategies can you share?\n    \n\n    10.30am - Morning Tea\, Trade Exhibition and Poster Gallery\n    \n\n    11.00am\n    Highlights from the CBCA Younger Readers Category Judge\n    Ruth Woolven\, Librarian\, Kew Primary School\n    \n\n    11.45 – Discussion Session Two\n    How do you encourage and support student voice/agency in your library?\n    \n\n    12:05pm - Creator - Marc Martin\n    \n\n    12.35pm – Lunch\, Trade Exhibition and Poster Gallery\n    \n\n    1:30pm – SLAV Primary School Leaders Award Presentation\n    \n\n    2.00 pm - Information Literacy in Primary Schools: What is it and should we bother?\n    Kim Hauser\, Library Curriculum Leader\, Loreto Mandeville Hall\n    \n\n    2.15pm – Discussion Session Three\n    How are you involved in the Inquiry Process in your school?\n    2.30 pm – Discussion Session Four\n    Ideas for responding to the 2021 CBCA Book Week Theme\n    \n\n    3.00pm – Emily Rodda live on the big screen!\n    \n\n    3.25pm Conference Close – Poster Gallery prizes \n    \n\n    \n\n    PROGRAM FLYER\n    \n\n    \n\n     
DTSTAMP:20260424T160838Z
END:VEVENT
END:VCALENDAR
