BEGIN:VCALENDAR
VERSION:2.0
METHOD:PUBLISH
BEGIN:VEVENT
UID:WILD_APRICOT_EVENT_3696743_SESSION_1
DTSTART:20200809T230000Z
DTEND:20200810T023000Z
SUMMARY:Masterclass series – Powering Learning: LibGuides
LOCATION:Online
DESCRIPTION:https://slav.org.au/event-3696743\n\n\n\n\n  \nPowering Learning: Libguides\n  \nMonday August 10\n  \nOnline (Melbourne time)\n\n  \nMeeting details to follow\n\n  \nProgram\n  9.00 Welcome\n  9.15 – 10.00am\n  A tour of the Libguides at Scotch College\, Perth (online)\n  with Brad Tyrrell the Dean of Information and Learning Technology   Scotch College\n  10.00 – 10.30\n  Putting the student in the library driver’s seat: library and teacher collaboration together with student content curation to enhance learning - David Feighan\n   10.30 – 11.00 – Break\n\n  11.00 – 12.30\n  Merging the Teacher Librarian/Teacher Roles: How I use Libguides - Tania Sheko\n  Hiding Vegetables in the Meatballs – Leonie Paatsch\n  Libguides for Differentiation - Jodie Warner (and Bronwyn Burke)\n  Tools and Tips Monica Williams\n  \n\n  MASTERCLASS FLYER\n\n  \n\n\n  \n\n
DTSTAMP:20260424T162410Z
END:VEVENT
END:VCALENDAR
