BEGIN:VCALENDAR
VERSION:2.0
METHOD:PUBLISH
BEGIN:VEVENT
UID:WILD_APRICOT_EVENT_3696745_SESSION_1
DTSTART:20200730T063000Z
DTEND:20200730T083000Z
SUMMARY:Reading Forum Series 2020 - Session 3\, Kew Primary School
LOCATION:Kew Primary School
DESCRIPTION:https://slav.org.au/event-3696745\n\n\n\n
DTSTAMP:20200227T173548Z
END:VEVENT
END:VCALENDAR
