BEGIN:VCALENDAR
VERSION:2.0
METHOD:PUBLISH
BEGIN:VEVENT
UID:WILD_APRICOT_EVENT_3696746_SESSION_1
DTSTART:20201029T051500Z
DTEND:20201029T070000Z
SUMMARY:Reading Forum Series 2020 - Session 4 - Online
LOCATION:Online
DESCRIPTION:https://slav.org.au/event-3696746\n\n\n  \nReaders\, Stories\, Literacy\n  \nA forum for learning and discussion\n  \nOnline\n  \n4pm for 4.15 to 6.00pm\n  (meeting space open at 3.30pm for testing)\n\n  \nOctober - Book Talking\nThere is a correlation between the richness of the reading environment in which readers live and the richness of the talk about what they’ve read. Aidan Chambers Tell Me: Children Reading and Talking\, PETA\, 1993  This forum will explore how we talk about books in reading programs and to English classes or individuals when we are trying to capture their interest and ensure they want to read the book no matter what! \nHow do we give a great book talk? We will discuss hints and tips and listen to a panel of highly skilled book talkers discussing their best book talks and strategies for encouraging book talk among students.  Panel:\n      * Susan La Marca\, SLAV EO\n\n        * Erin Wamala\, Teacher-librarian\, Trinity Grammar School\n\n        * Tye Cattanach\, Readings Bookshop\, SLAV Social Media\n\n  \nSpecial Guests\n  Suzy Zail on her new book I Am Change\n  Ian Trevaskis on his new book Of Boys and Boats \n\n  Trace Balla discussing her work\n\n  Ten Best New Books in Ten Minutes from the The Kids Bookshop\n\n  \n\n\n  \n\n
DTSTAMP:20260424T173740Z
END:VEVENT
END:VCALENDAR
