BEGIN:VCALENDAR
VERSION:2.0
METHOD:PUBLISH
BEGIN:VEVENT
UID:WILD_APRICOT_EVENT_3696757_SESSION_1
DTSTART:20220616T230000Z
DTEND:20220618T053000Z
SUMMARY:National Education Summit - Capacity Building School Libraries
LOCATION:Melbourne Convention Centre
DESCRIPTION:https://slav.org.au/event-3696757\n\n\n\n  SLAV are a partner organisation for the Conference Strand of the National Education Summit - Capacity Building School Libraries.\n\n  \nRegistration details and further information are on the National Education Summit website HERE\n  More information will be shared once it becomes available.\n\n  \n\n
DTSTAMP:20260424T173749Z
END:VEVENT
END:VCALENDAR
