BEGIN:VCALENDAR
VERSION:2.0
METHOD:PUBLISH
BEGIN:VEVENT
UID:WILD_APRICOT_EVENT_3696736_SESSION_1
DTSTART:20200322T213000Z
DTEND:20200323T043000Z
SUMMARY:March Conference - School Libraries: Powering Learning
LOCATION:Victoria University\, City Convention Centre Level 12\, 300 Flinders Street Melbourne.
DESCRIPTION:https://slav.org.au/event-3696736\n\n\n\n  \nCost:  $300 FOR MEMBERS (NON-MEMBERS $450)\n  \n\n  \nConference Program\n                          8.30am\n                                   Registration\n                                           9.00am\n                                   Welcome: Camilla Elliott\n            SLAV Vice President and Professional Learning Chair\n                                           9.10am\n                                   Keynote Address: Professor Emerita Dianne Oberg\n            School libraries: Powering ethical and intercultural learning\n                                           10.15am\n                                   SLAV Professional Learning 2020\n            IFLA Strengthening the Global Voice of Libraries\n                                           10.30am\n                                   Morning Tea and Trade Exhibition\n                                           11.00am\n                                   Concurrent Sessions - Round 1\n                              1. Bridget Forster\n            Libraries: Fuel for powering the learning of our bright sparks\n            \n\n            2. Adria Juros\n            Re-imagine. Re-discover. Re-connect: Collaborating to inspire learners\n            \n\n            3. Diana Kelly\n            Preparing students for 21st Century learning through supporting students in the general capabilities\n                                           12.00pm\n                                   Featured Address: Monica Bini\, VCAA Curriculum Manager for the Capabilities\, VCE Extended Investigation and VCE Philosophy\n            Powering up the capabilities\n            \n\n                                           12.45pm\n                        Lunch and Trade Exhibition\n                                  1.30pm\n          \n\n                        Concurrent Sessions - Round 2\n          1. Jennifer Cain\n          Creating knowledge building skills: Supporting the IB Learner Profile and MYP\n          \n\n          2. Karin Gilbert and Rosalie Austin\n          Aligning critical and creative thinking with the research skills framework\, strategy and practice\n          \n\n          3. Joanne Lowe and Fiona Longfield\n          Critical consumers in a digital world\n          \n\n                                  2.30pm\n                        Featured Address: Dr Claire Scoular\, Australian Council of Educational Research (ACER)\n          Integration of the general capabilities: Assessment\, teaching\, and pedagogy\n          \n\n                                  3.15pm\n                        Announcements and Closing Address: Professor Emerita Dianne Oberg\n                  \n\n     Download the flyer\n 
DTSTAMP:20200227T172058Z
END:VEVENT
END:VCALENDAR
