BEGIN:VCALENDAR
VERSION:2.0
METHOD:PUBLISH
BEGIN:VEVENT
UID:WILD_APRICOT_EVENT_3696737_SESSION_1
DTSTART:20200322T213000Z
DTEND:20200323T043000Z
SUMMARY:Trade - Conference March 23 2020
LOCATION:VICTORIA UNIVERSITY\, 300 FLINDERS STREET\, MELBOURNE
DESCRIPTION:https://slav.org.au/event-3696737\n\n        \n\n\n      \n\n\n      \nA full day conference\n      \n\n             Date: Monday 23 March 2020\n\n        Time: 8:30 am - 3:30pm\n        Location: VICTORIA UNIVERSITY\,\n        300 FLINDERS STREET\, MELBOURNE\n        \n\n           \nPackage information\n             \n                  \nTrade Exhibition Package 1 – $400.00 GST incl (1 Person)\n                                 \n\n          This package includes:\n                                            * Table\n\n                * 1 chair\n\n                * Morning tea and lunch\n\n                * Complimentary one page A4\, or smaller\, advertising flier in conference satchels\n\n                *  110 copies to be delivered to the SLAV Office on or before Monday 16 March.\n\n                                        \n\n\n                                        \nTrade Exhibition Package 2 – $500.00 GST incl \n          \n(2 People)\n                     \n                                           This package includes:\n                                            * Table\n\n              * 2 chairs\n\n              * Morning tea and lunch\n\n              * Complimentary one page A4\, or smaller\, advertising flier in conference satchels\n\n              * 110 copies to be delivered to the SLAV Office on or before\n\nMonday 16th March.\n                         \n\n        \n\n        \nSatchel Flyer insert only – $150.00 GST incl\n                                 \n\n          Your flier can be A4 size or smaller\n                                      *              110 copies delivered to the SLAV office on or before Monday 16th March.\n\n           \n\n                               \n                 \n\n            For more information\, please  download the conference program. \n    
DTSTAMP:20200227T174058Z
END:VEVENT
END:VCALENDAR
